Package: MoonlightR Version: 1.26.1 Command: chmod a+r MoonlightR -R && F:\biocbuild\bbs-3.17-bioc\R\bin\R.exe CMD build --keep-empty-dirs --no-resave-data MoonlightR StartedAt: 2023-10-15 20:35:23 -0400 (Sun, 15 Oct 2023) EndedAt: 2023-10-15 20:37:28 -0400 (Sun, 15 Oct 2023) EllapsedTime: 125.4 seconds RetCode: 0 Status: OK PackageFile: MoonlightR_1.26.1.tar.gz PackageFileSize: 14.3 MiB