Package: MoonlightR Version: 1.26.1 Command: rm -rf MoonlightR.buildbin-libdir && mkdir MoonlightR.buildbin-libdir && F:\biocbuild\bbs-3.17-bioc\R\bin\R.exe CMD INSTALL --build --library=MoonlightR.buildbin-libdir MoonlightR_1.26.1.tar.gz StartedAt: 2023-10-16 09:07:01 -0400 (Mon, 16 Oct 2023) EndedAt: 2023-10-16 09:07:56 -0400 (Mon, 16 Oct 2023) EllapsedTime: 55.0 seconds RetCode: 0 Status: OK PackageFile: MoonlightR_1.26.1.zip PackageFileSize: 8.775 MiB