Package: MoonlightR Version: 1.26.1 Command: /home/biocbuild/bbs-3.17-bioc/R/bin/R CMD build --keep-empty-dirs --no-resave-data MoonlightR StartedAt: 2023-10-15 17:30:52 -0400 (Sun, 15 Oct 2023) EndedAt: 2023-10-15 17:32:54 -0400 (Sun, 15 Oct 2023) EllapsedTime: 122.6 seconds RetCode: 0 Status: OK PackageFile: MoonlightR_1.26.1.tar.gz PackageFileSize: 14.76 MiB