Package: MoonlightR Version: 1.26.1 Command: /Library/Frameworks/R.framework/Resources/bin/R CMD build --keep-empty-dirs --no-resave-data MoonlightR StartedAt: 2023-10-15 19:37:27 -0400 (Sun, 15 Oct 2023) EndedAt: 2023-10-15 19:41:43 -0400 (Sun, 15 Oct 2023) EllapsedTime: 256.7 seconds RetCode: 0 Status: OK PackageFile: MoonlightR_1.26.1.tar.gz PackageFileSize: 14.75 MiB