Package: MoleculeExperiment Version: 1.0.3 Command: F:\biocbuild\bbs-3.17-bioc\R\bin\R.exe CMD INSTALL MoleculeExperiment StartedAt: 2023-10-15 16:59:55 -0400 (Sun, 15 Oct 2023) EndedAt: 2023-10-15 17:00:50 -0400 (Sun, 15 Oct 2023) EllapsedTime: 54.6 seconds RetCode: 0 Status: OK