Package: MoleculeExperiment Version: 1.0.3 Command: chmod a+r MoleculeExperiment -R && F:\biocbuild\bbs-3.17-bioc\R\bin\R.exe CMD build --keep-empty-dirs --no-resave-data MoleculeExperiment StartedAt: 2023-10-15 20:34:56 -0400 (Sun, 15 Oct 2023) EndedAt: 2023-10-15 20:36:58 -0400 (Sun, 15 Oct 2023) EllapsedTime: 122.0 seconds RetCode: 0 Status: OK PackageFile: MoleculeExperiment_1.0.3.tar.gz PackageFileSize: 12.46 MiB