Package: MoleculeExperiment Version: 1.0.3 Command: /home/biocbuild/bbs-3.17-bioc/R/bin/R CMD check --install=check:MoleculeExperiment.install-out.txt --library=/home/biocbuild/bbs-3.17-bioc/R/site-library --timings MoleculeExperiment_1.0.3.tar.gz StartedAt: 2023-10-15 22:59:29 -0400 (Sun, 15 Oct 2023) EndedAt: 2023-10-15 23:05:53 -0400 (Sun, 15 Oct 2023) EllapsedTime: 384.4 seconds RetCode: 0 Status: OK CheckDir: MoleculeExperiment.Rcheck Warnings: 0