Package: MoleculeExperiment Version: 1.0.3 Command: /home/biocbuild/bbs-3.17-bioc/R/bin/R CMD build --keep-empty-dirs --no-resave-data MoleculeExperiment StartedAt: 2023-10-15 17:30:27 -0400 (Sun, 15 Oct 2023) EndedAt: 2023-10-15 17:32:31 -0400 (Sun, 15 Oct 2023) EllapsedTime: 123.1 seconds RetCode: 0 Status: OK PackageFile: MoleculeExperiment_1.0.3.tar.gz PackageFileSize: 14.29 MiB