Package: Modstrings Version: 1.16.0 Command: chmod a+r Modstrings -R && F:\biocbuild\bbs-3.17-bioc\R\bin\R.exe CMD build --keep-empty-dirs --no-resave-data Modstrings StartedAt: 2023-10-15 20:34:12 -0400 (Sun, 15 Oct 2023) EndedAt: 2023-10-15 20:34:56 -0400 (Sun, 15 Oct 2023) EllapsedTime: 44.6 seconds RetCode: 0 Status: OK PackageFile: Modstrings_1.16.0.tar.gz PackageFileSize: 824 KiB