Package: Modstrings Version: 1.16.0 Command: rm -rf Modstrings.buildbin-libdir && mkdir Modstrings.buildbin-libdir && F:\biocbuild\bbs-3.17-bioc\R\bin\R.exe CMD INSTALL --build --library=Modstrings.buildbin-libdir Modstrings_1.16.0.tar.gz StartedAt: 2023-10-16 09:06:41 -0400 (Mon, 16 Oct 2023) EndedAt: 2023-10-16 09:07:11 -0400 (Mon, 16 Oct 2023) EllapsedTime: 30.2 seconds RetCode: 0 Status: OK PackageFile: Modstrings_1.16.0.zip PackageFileSize: 1.366 MiB