Package: Modstrings Version: 1.16.0 Command: /Library/Frameworks/R.framework/Resources/bin/R CMD INSTALL Modstrings StartedAt: 2023-10-15 15:18:15 -0400 (Sun, 15 Oct 2023) EndedAt: 2023-10-15 15:19:28 -0400 (Sun, 15 Oct 2023) EllapsedTime: 73.1 seconds RetCode: 0 Status: OK