Package: Modstrings Version: 1.16.0 Command: rm -rf Modstrings.buildbin-libdir && mkdir Modstrings.buildbin-libdir && /Users/biocbuild/BBS/utils/build-universal.sh Modstrings_1.16.0.tar.gz /Library/Frameworks/R.framework/Resources/bin/R Modstrings.buildbin-libdir StartedAt: 2023-10-16 09:45:27 -0400 (Mon, 16 Oct 2023) EndedAt: 2023-10-16 09:46:36 -0400 (Mon, 16 Oct 2023) EllapsedTime: 69.4 seconds RetCode: 0 Status: OK PackageFile: Modstrings_1.16.0.tgz PackageFileSize: 1.354 MiB