Package: ModCon Version: 1.8.0 Command: /home/biocbuild/bbs-3.17-bioc/R/bin/R CMD build --keep-empty-dirs --no-resave-data ModCon StartedAt: 2023-10-15 17:30:06 -0400 (Sun, 15 Oct 2023) EndedAt: 2023-10-15 17:31:53 -0400 (Sun, 15 Oct 2023) EllapsedTime: 106.8 seconds RetCode: 0 Status: OK PackageFile: ModCon_1.8.0.tar.gz PackageFileSize: 1.912 MiB