Package: MobilityTransformR Version: 1.4.0 Command: /Library/Frameworks/R.framework/Resources/bin/R CMD INSTALL MobilityTransformR StartedAt: 2023-10-15 16:12:00 -0400 (Sun, 15 Oct 2023) EndedAt: 2023-10-15 16:13:45 -0400 (Sun, 15 Oct 2023) EllapsedTime: 105.7 seconds RetCode: 0 Status: OK