Package: MobilityTransformR Version: 1.4.0 Command: /Library/Frameworks/R.framework/Resources/bin/R CMD build --keep-empty-dirs --no-resave-data MobilityTransformR StartedAt: 2023-10-15 19:35:21 -0400 (Sun, 15 Oct 2023) EndedAt: 2023-10-15 19:37:51 -0400 (Sun, 15 Oct 2023) EllapsedTime: 150.1 seconds RetCode: 0 Status: OK PackageFile: MobilityTransformR_1.4.0.tar.gz PackageFileSize: 397.3 KiB