Package: MobilityTransformR Version: 1.4.0 Command: rm -rf MobilityTransformR.buildbin-libdir && mkdir MobilityTransformR.buildbin-libdir && /Users/biocbuild/BBS/utils/build-universal.sh MobilityTransformR_1.4.0.tar.gz /Library/Frameworks/R.framework/Resources/bin/R MobilityTransformR.buildbin-libdir StartedAt: 2023-10-16 09:45:18 -0400 (Mon, 16 Oct 2023) EndedAt: 2023-10-16 09:47:11 -0400 (Mon, 16 Oct 2023) EllapsedTime: 112.5 seconds RetCode: 0 Status: OK PackageFile: MobilityTransformR_1.4.0.tgz PackageFileSize: 411 KiB