Package: MinimumDistance Version: 1.44.0 Command: /home/biocbuild/bbs-3.17-bioc/R/bin/R CMD INSTALL MinimumDistance StartedAt: 2023-10-15 15:46:40 -0400 (Sun, 15 Oct 2023) EndedAt: 2023-10-15 15:47:26 -0400 (Sun, 15 Oct 2023) EllapsedTime: 46.1 seconds RetCode: 0 Status: OK