Package: MineICA Version: 1.40.0 Command: F:\biocbuild\bbs-3.17-bioc\R\bin\R.exe CMD INSTALL MineICA StartedAt: 2023-10-15 16:58:57 -0400 (Sun, 15 Oct 2023) EndedAt: 2023-10-15 17:00:02 -0400 (Sun, 15 Oct 2023) EllapsedTime: 64.9 seconds RetCode: 0 Status: OK