Package: MineICA Version: 1.40.0 Command: rm -rf MineICA.buildbin-libdir && mkdir MineICA.buildbin-libdir && F:\biocbuild\bbs-3.17-bioc\R\bin\R.exe CMD INSTALL --build --library=MineICA.buildbin-libdir MineICA_1.40.0.tar.gz StartedAt: 2023-10-16 09:05:27 -0400 (Mon, 16 Oct 2023) EndedAt: 2023-10-16 09:06:31 -0400 (Mon, 16 Oct 2023) EllapsedTime: 64.8 seconds RetCode: 0 Status: OK PackageFile: MineICA_1.40.0.zip PackageFileSize: 2.157 MiB