Package: MineICA Version: 1.40.0 Command: /home/biocbuild/bbs-3.17-bioc/R/bin/R CMD check --install=check:MineICA.install-out.txt --library=/home/biocbuild/bbs-3.17-bioc/R/site-library --timings MineICA_1.40.0.tar.gz StartedAt: 2023-10-15 22:50:56 -0400 (Sun, 15 Oct 2023) EndedAt: 2023-10-15 22:57:18 -0400 (Sun, 15 Oct 2023) EllapsedTime: 382.8 seconds RetCode: 0 Status: WARNINGS CheckDir: MineICA.Rcheck Warnings: 3