Package: MineICA Version: 1.40.0 Command: /Library/Frameworks/R.framework/Resources/bin/R CMD check --install=check:MineICA.install-out.txt --library=/Library/Frameworks/R.framework/Resources/library --no-vignettes --timings MineICA_1.40.0.tar.gz StartedAt: 2023-10-16 03:54:54 -0400 (Mon, 16 Oct 2023) EndedAt: 2023-10-16 04:06:16 -0400 (Mon, 16 Oct 2023) EllapsedTime: 682.5 seconds RetCode: 0 Status: WARNINGS CheckDir: MineICA.Rcheck Warnings: 3