Package: MicrobiotaProcess Version: 1.12.4 Command: F:\biocbuild\bbs-3.17-bioc\R\bin\R.exe CMD INSTALL MicrobiotaProcess StartedAt: 2023-10-15 16:41:33 -0400 (Sun, 15 Oct 2023) EndedAt: 2023-10-15 16:43:02 -0400 (Sun, 15 Oct 2023) EllapsedTime: 88.8 seconds RetCode: 0 Status: OK