Package: MicrobiotaProcess Version: 1.12.4 Command: chmod a+r MicrobiotaProcess -R && F:\biocbuild\bbs-3.17-bioc\R\bin\R.exe CMD build --keep-empty-dirs --no-resave-data MicrobiotaProcess StartedAt: 2023-10-15 20:26:23 -0400 (Sun, 15 Oct 2023) EndedAt: 2023-10-15 20:29:35 -0400 (Sun, 15 Oct 2023) EllapsedTime: 192.3 seconds RetCode: 0 Status: OK PackageFile: MicrobiotaProcess_1.12.4.tar.gz PackageFileSize: 3.619 MiB