Package: MicrobiotaProcess Version: 1.12.4 Command: rm -rf MicrobiotaProcess.buildbin-libdir && mkdir MicrobiotaProcess.buildbin-libdir && F:\biocbuild\bbs-3.17-bioc\R\bin\R.exe CMD INSTALL --build --library=MicrobiotaProcess.buildbin-libdir MicrobiotaProcess_1.12.4.tar.gz StartedAt: 2023-10-16 09:05:11 -0400 (Mon, 16 Oct 2023) EndedAt: 2023-10-16 09:06:39 -0400 (Mon, 16 Oct 2023) EllapsedTime: 88.5 seconds RetCode: 0 Status: OK PackageFile: MicrobiotaProcess_1.12.4.zip PackageFileSize: 4.365 MiB