Package: MicrobiotaProcess Version: 1.12.4 Command: /home/biocbuild/bbs-3.17-bioc/R/bin/R CMD INSTALL MicrobiotaProcess StartedAt: 2023-10-15 15:37:02 -0400 (Sun, 15 Oct 2023) EndedAt: 2023-10-15 15:38:02 -0400 (Sun, 15 Oct 2023) EllapsedTime: 60.6 seconds RetCode: 0 Status: OK