Package: MicrobiotaProcess Version: 1.12.4 Command: /Library/Frameworks/R.framework/Resources/bin/R CMD INSTALL MicrobiotaProcess StartedAt: 2023-10-15 16:05:04 -0400 (Sun, 15 Oct 2023) EndedAt: 2023-10-15 16:08:46 -0400 (Sun, 15 Oct 2023) EllapsedTime: 221.9 seconds RetCode: 0 Status: OK