Package: MicrobiotaProcess Version: 1.12.4 Command: /Library/Frameworks/R.framework/Resources/bin/R CMD build --keep-empty-dirs --no-resave-data MicrobiotaProcess StartedAt: 2023-10-15 19:29:56 -0400 (Sun, 15 Oct 2023) EndedAt: 2023-10-15 19:37:11 -0400 (Sun, 15 Oct 2023) EllapsedTime: 435.3 seconds RetCode: 0 Status: OK PackageFile: MicrobiotaProcess_1.12.4.tar.gz PackageFileSize: 4.491 MiB