Package: MicrobiotaProcess Version: 1.12.4 Command: rm -rf MicrobiotaProcess.buildbin-libdir && mkdir MicrobiotaProcess.buildbin-libdir && /Users/biocbuild/BBS/utils/build-universal.sh MicrobiotaProcess_1.12.4.tar.gz /Library/Frameworks/R.framework/Resources/bin/R MicrobiotaProcess.buildbin-libdir StartedAt: 2023-10-16 09:43:37 -0400 (Mon, 16 Oct 2023) EndedAt: 2023-10-16 09:47:48 -0400 (Mon, 16 Oct 2023) EllapsedTime: 251.1 seconds RetCode: 0 Status: OK PackageFile: MicrobiotaProcess_1.12.4.tgz PackageFileSize: 5.23 MiB