Package: MicrobiomeProfiler Version: 1.6.1 Command: /home/biocbuild/bbs-3.17-bioc/R/bin/R CMD check --install=check:MicrobiomeProfiler.install-out.txt --library=/home/biocbuild/bbs-3.17-bioc/R/site-library --timings MicrobiomeProfiler_1.6.1.tar.gz StartedAt: 2023-10-15 22:48:35 -0400 (Sun, 15 Oct 2023) EndedAt: 2023-10-15 22:51:34 -0400 (Sun, 15 Oct 2023) EllapsedTime: 179.7 seconds RetCode: 0 Status: OK CheckDir: MicrobiomeProfiler.Rcheck Warnings: 0