Package: MicrobiomeProfiler Version: 1.6.1 Command: /home/biocbuild/bbs-3.17-bioc/R/bin/R CMD build --keep-empty-dirs --no-resave-data MicrobiomeProfiler StartedAt: 2023-10-15 17:26:22 -0400 (Sun, 15 Oct 2023) EndedAt: 2023-10-15 17:26:49 -0400 (Sun, 15 Oct 2023) EllapsedTime: 26.9 seconds RetCode: 0 Status: OK PackageFile: MicrobiomeProfiler_1.6.1.tar.gz PackageFileSize: 1.024 MiB