Package: MicrobiomeProfiler Version: 1.6.1 Command: /Library/Frameworks/R.framework/Resources/bin/R CMD build --keep-empty-dirs --no-resave-data MicrobiomeProfiler StartedAt: 2023-10-15 19:29:52 -0400 (Sun, 15 Oct 2023) EndedAt: 2023-10-15 19:30:57 -0400 (Sun, 15 Oct 2023) EllapsedTime: 64.5 seconds RetCode: 0 Status: OK PackageFile: MicrobiomeProfiler_1.6.1.tar.gz PackageFileSize: 1.024 MiB