Package: MiRaGE Version: 1.42.0 Command: rm -rf MiRaGE.buildbin-libdir && mkdir MiRaGE.buildbin-libdir && F:\biocbuild\bbs-3.17-bioc\R\bin\R.exe CMD INSTALL --build --library=MiRaGE.buildbin-libdir MiRaGE_1.42.0.tar.gz StartedAt: 2023-10-16 09:05:41 -0400 (Mon, 16 Oct 2023) EndedAt: 2023-10-16 09:06:01 -0400 (Mon, 16 Oct 2023) EllapsedTime: 19.5 seconds RetCode: 0 Status: OK PackageFile: MiRaGE_1.42.0.zip PackageFileSize: 1.208 MiB