Package: MiPP Version: 1.72.0 Command: rm -rf MiPP.buildbin-libdir && mkdir MiPP.buildbin-libdir && F:\biocbuild\bbs-3.17-bioc\R\bin\R.exe CMD INSTALL --build --library=MiPP.buildbin-libdir MiPP_1.72.0.tar.gz StartedAt: 2023-10-16 09:05:36 -0400 (Mon, 16 Oct 2023) EndedAt: 2023-10-16 09:05:42 -0400 (Mon, 16 Oct 2023) EllapsedTime: 6.4 seconds RetCode: 0 Status: OK PackageFile: MiPP_1.72.0.zip PackageFileSize: 379.7 KiB