Package: MiChip Version: 1.54.0 Command: /home/biocbuild/bbs-3.17-bioc/R/bin/R CMD build --keep-empty-dirs --no-resave-data MiChip StartedAt: 2023-10-15 17:26:13 -0400 (Sun, 15 Oct 2023) EndedAt: 2023-10-15 17:26:22 -0400 (Sun, 15 Oct 2023) EllapsedTime: 8.2 seconds RetCode: 0 Status: OK PackageFile: MiChip_1.54.0.tar.gz PackageFileSize: 536.6 KiB