Package: Mfuzz Version: 2.60.0 Command: /Library/Frameworks/R.framework/Resources/bin/R CMD INSTALL Mfuzz StartedAt: 2023-10-15 15:10:15 -0400 (Sun, 15 Oct 2023) EndedAt: 2023-10-15 15:11:00 -0400 (Sun, 15 Oct 2023) EllapsedTime: 45.8 seconds RetCode: 0 Status: OK