Package: Mfuzz Version: 2.60.0 Command: /Library/Frameworks/R.framework/Resources/bin/R CMD check --install=check:Mfuzz.install-out.txt --library=/Library/Frameworks/R.framework/Resources/library --no-vignettes --timings Mfuzz_2.60.0.tar.gz StartedAt: 2023-10-16 03:49:43 -0400 (Mon, 16 Oct 2023) EndedAt: 2023-10-16 03:51:08 -0400 (Mon, 16 Oct 2023) EllapsedTime: 85.0 seconds RetCode: 0 Status: WARNINGS CheckDir: Mfuzz.Rcheck Warnings: 2