Package: MethylSeekR Version: 1.40.0 Command: chmod a+r MethylSeekR -R && F:\biocbuild\bbs-3.17-bioc\R\bin\R.exe CMD build --keep-empty-dirs --no-resave-data MethylSeekR StartedAt: 2023-10-15 20:23:18 -0400 (Sun, 15 Oct 2023) EndedAt: 2023-10-15 20:25:02 -0400 (Sun, 15 Oct 2023) EllapsedTime: 103.9 seconds RetCode: 0 Status: OK PackageFile: MethylSeekR_1.40.0.tar.gz PackageFileSize: 1.595 MiB