Package: MethylSeekR Version: 1.40.0 Command: /Library/Frameworks/R.framework/Resources/bin/R CMD INSTALL MethylSeekR StartedAt: 2023-10-15 15:33:30 -0400 (Sun, 15 Oct 2023) EndedAt: 2023-10-15 15:35:04 -0400 (Sun, 15 Oct 2023) EllapsedTime: 94.4 seconds RetCode: 0 Status: OK