Package: MethylSeekR Version: 1.40.0 Command: /Library/Frameworks/R.framework/Resources/bin/R CMD check --install=check:MethylSeekR.install-out.txt --library=/Library/Frameworks/R.framework/Resources/library --no-vignettes --timings MethylSeekR_1.40.0.tar.gz StartedAt: 2023-10-16 03:48:01 -0400 (Mon, 16 Oct 2023) EndedAt: 2023-10-16 04:02:40 -0400 (Mon, 16 Oct 2023) EllapsedTime: 878.6 seconds RetCode: 0 Status: OK CheckDir: MethylSeekR.Rcheck Warnings: 0