Package: MethylSeekR Version: 1.40.0 Command: rm -rf MethylSeekR.buildbin-libdir && mkdir MethylSeekR.buildbin-libdir && /Users/biocbuild/BBS/utils/build-universal.sh MethylSeekR_1.40.0.tar.gz /Library/Frameworks/R.framework/Resources/bin/R MethylSeekR.buildbin-libdir StartedAt: 2023-10-16 09:42:45 -0400 (Mon, 16 Oct 2023) EndedAt: 2023-10-16 09:44:28 -0400 (Mon, 16 Oct 2023) EllapsedTime: 103.0 seconds RetCode: 0 Status: OK PackageFile: MethylSeekR_1.40.0.tgz PackageFileSize: 1.655 MiB