Package: MethylMix Version: 2.30.0 Command: F:\biocbuild\bbs-3.17-bioc\R\bin\R.exe CMD INSTALL MethylMix StartedAt: 2023-10-15 16:34:33 -0400 (Sun, 15 Oct 2023) EndedAt: 2023-10-15 16:34:49 -0400 (Sun, 15 Oct 2023) EllapsedTime: 16.1 seconds RetCode: 0 Status: OK