Package: MethylMix Version: 2.30.0 Command: F:\biocbuild\bbs-3.17-bioc\R\bin\R.exe CMD check --no-multiarch --install=check:MethylMix.install-out.txt --library=F:\biocbuild\bbs-3.17-bioc\R\library --no-vignettes --timings MethylMix_2.30.0.tar.gz StartedAt: 2023-10-16 03:58:31 -0400 (Mon, 16 Oct 2023) EndedAt: 2023-10-16 04:00:47 -0400 (Mon, 16 Oct 2023) EllapsedTime: 136.5 seconds RetCode: 0 Status: OK CheckDir: MethylMix.Rcheck Warnings: 0