Package: MethylMix Version: 2.30.0 Command: rm -rf MethylMix.buildbin-libdir && mkdir MethylMix.buildbin-libdir && F:\biocbuild\bbs-3.17-bioc\R\bin\R.exe CMD INSTALL --build --library=MethylMix.buildbin-libdir MethylMix_2.30.0.tar.gz StartedAt: 2023-10-16 09:04:09 -0400 (Mon, 16 Oct 2023) EndedAt: 2023-10-16 09:04:25 -0400 (Mon, 16 Oct 2023) EllapsedTime: 16.1 seconds RetCode: 0 Status: OK PackageFile: MethylMix_2.30.0.zip PackageFileSize: 3.029 MiB