Package: MethylMix Version: 2.30.0 Command: /home/biocbuild/bbs-3.17-bioc/R/bin/R CMD INSTALL MethylMix StartedAt: 2023-10-15 15:33:03 -0400 (Sun, 15 Oct 2023) EndedAt: 2023-10-15 15:33:10 -0400 (Sun, 15 Oct 2023) EllapsedTime: 7.4 seconds RetCode: 0 Status: OK