Package: MethylMix Version: 2.30.0 Command: /Library/Frameworks/R.framework/Resources/bin/R CMD INSTALL MethylMix StartedAt: 2023-10-15 15:56:15 -0400 (Sun, 15 Oct 2023) EndedAt: 2023-10-15 15:56:43 -0400 (Sun, 15 Oct 2023) EllapsedTime: 27.6 seconds RetCode: 0 Status: OK