Package: MethylAid Version: 1.34.0 Command: F:\biocbuild\bbs-3.17-bioc\R\bin\R.exe CMD check --no-multiarch --install=check:MethylAid.install-out.txt --library=F:\biocbuild\bbs-3.17-bioc\R\library --no-vignettes --timings MethylAid_1.34.0.tar.gz StartedAt: 2023-10-16 03:57:01 -0400 (Mon, 16 Oct 2023) EndedAt: 2023-10-16 04:09:44 -0400 (Mon, 16 Oct 2023) EllapsedTime: 763.5 seconds RetCode: 0 Status: OK CheckDir: MethylAid.Rcheck Warnings: 0