Package: MethylAid Version: 1.34.0 Command: chmod a+r MethylAid -R && F:\biocbuild\bbs-3.17-bioc\R\bin\R.exe CMD build --keep-empty-dirs --no-resave-data MethylAid StartedAt: 2023-10-15 20:20:34 -0400 (Sun, 15 Oct 2023) EndedAt: 2023-10-15 20:26:22 -0400 (Sun, 15 Oct 2023) EllapsedTime: 347.5 seconds RetCode: 0 Status: OK PackageFile: MethylAid_1.34.0.tar.gz PackageFileSize: 3.015 MiB