Package: MethylAid Version: 1.34.0 Command: rm -rf MethylAid.buildbin-libdir && mkdir MethylAid.buildbin-libdir && F:\biocbuild\bbs-3.17-bioc\R\bin\R.exe CMD INSTALL --build --library=MethylAid.buildbin-libdir MethylAid_1.34.0.tar.gz StartedAt: 2023-10-16 09:03:57 -0400 (Mon, 16 Oct 2023) EndedAt: 2023-10-16 09:04:52 -0400 (Mon, 16 Oct 2023) EllapsedTime: 55.6 seconds RetCode: 0 Status: OK PackageFile: MethylAid_1.34.0.zip PackageFileSize: 3.283 MiB