Package: MethylAid Version: 1.34.0 Command: /home/biocbuild/bbs-3.17-bioc/R/bin/R CMD build --keep-empty-dirs --no-resave-data MethylAid StartedAt: 2023-10-15 17:23:44 -0400 (Sun, 15 Oct 2023) EndedAt: 2023-10-15 17:26:04 -0400 (Sun, 15 Oct 2023) EllapsedTime: 140.0 seconds RetCode: 0 Status: OK PackageFile: MethylAid_1.34.0.tar.gz PackageFileSize: 3.013 MiB