Package: MethylAid Version: 1.34.0 Command: /Library/Frameworks/R.framework/Resources/bin/R CMD build --keep-empty-dirs --no-resave-data MethylAid StartedAt: 2023-10-15 19:24:03 -0400 (Sun, 15 Oct 2023) EndedAt: 2023-10-15 19:32:53 -0400 (Sun, 15 Oct 2023) EllapsedTime: 530.7 seconds RetCode: 0 Status: OK PackageFile: MethylAid_1.34.0.tar.gz PackageFileSize: 3.013 MiB